BEGIN:VCALENDAR
VERSION:2.0
PRODID:SchoolNow
CALSCALE:GREGORIAN
BEGIN:VEVENT
UID:d642f012-9d9c-11e9-a4dd-127913aec3e4
DTSTAMP:20190703T141902Z
SUMMARY:Home & School General Meeting
LOCATION:Mater Dei Catholic School Gym
URL;VALUE=URI:https://www.materdeicatholic.com/calendar/2025102/home-and-sc
 hool-general-meeting
DTSTART:20200505T230000Z
DTEND:20200506T010000Z
END:VEVENT
END:VCALENDAR
