BEGIN:VCALENDAR
VERSION:2.0
PRODID:SchoolNow
CALSCALE:GREGORIAN
BEGIN:VEVENT
UID:9bac84e0-9d9c-11e9-aac8-12664eea1e58
DTSTAMP:20190817T185443Z
SUMMARY:Muffins With Mom
LOCATION:Mater Dei Catholic School Gym
URL;VALUE=URI:https://www.materdeicatholic.com/calendar/2025101/muffins-wit
 h-mom
DTSTART;VALUE=DATE:20200505
DTEND;VALUE=DATE:20200506
END:VEVENT
END:VCALENDAR
