BEGIN:VCALENDAR
VERSION:2.0
PRODID:SchoolNow
CALSCALE:GREGORIAN
BEGIN:VEVENT
UID:80e78a2e-9d9c-11e9-a2dd-12664eea1e58
DTSTAMP:20190703T141304Z
SUMMARY:Muffins With Mom
LOCATION:Mater Dei Catholic School Gym
URL;VALUE=URI:https://www.materdeicatholic.com/calendar/2025100/muffins-wit
 h-mom
DTSTART;VALUE=DATE:20200504
DTEND;VALUE=DATE:20200505
END:VEVENT
END:VCALENDAR
