BEGIN:VCALENDAR
VERSION:2.0
PRODID:SchoolNow
CALSCALE:GREGORIAN
BEGIN:VEVENT
UID:604437f4-9d9c-11e9-98f4-12664eea1e58
DTSTAMP:20190703T141056Z
SUMMARY:Grandparents/Special Persons Day
URL;VALUE=URI:https://www.materdeicatholic.com/calendar/2025099/grandparent
 s-special-persons-day
DTSTART;VALUE=DATE:20200501
DTEND;VALUE=DATE:20200502
END:VEVENT
END:VCALENDAR
