BEGIN:VCALENDAR
VERSION:2.0
PRODID:SchoolNow
CALSCALE:GREGORIAN
BEGIN:VEVENT
UID:37de225c-9d9c-11e9-8dfd-12664eea1e58
DTSTAMP:20190703T140948Z
SUMMARY:Progress Reports
URL;VALUE=URI:https://www.materdeicatholic.com/calendar/2025098/progress-re
 ports
DTSTART;VALUE=DATE:20200427
DTEND;VALUE=DATE:20200428
END:VEVENT
END:VCALENDAR
