BEGIN:VCALENDAR
VERSION:2.0
PRODID:SchoolNow
CALSCALE:GREGORIAN
BEGIN:VEVENT
UID:d39c1e34-9d9b-11e9-aa12-12664eea1e58
DTSTAMP:20190703T141840Z
SUMMARY:Home & School Trivia Night
LOCATION:Mater Dei Catholic School Gym
URL;VALUE=URI:https://www.materdeicatholic.com/calendar/2025096/home-and-sc
 hool-trivia-night
DTSTART;VALUE=DATE:20200425
DTEND;VALUE=DATE:20200426
END:VEVENT
END:VCALENDAR
