BEGIN:VCALENDAR
VERSION:2.0
PRODID:SchoolNow
CALSCALE:GREGORIAN
BEGIN:VEVENT
UID:afb038e8-9d9b-11e9-a161-12664eea1e58
DTSTAMP:20190703T140600Z
SUMMARY:Cubs Club
DESCRIPTION:PreK-4 and Kindergarten Students
URL;VALUE=URI:https://www.materdeicatholic.com/calendar/2025095/cubs-club
DTSTART:20200415T191500Z
DTEND:20200415T201500Z
END:VEVENT
END:VCALENDAR
