BEGIN:VCALENDAR
VERSION:2.0
PRODID:SchoolNow
CALSCALE:GREGORIAN
BEGIN:VEVENT
UID:852ffc16-9d9b-11e9-b94a-127913aec3e4
DTSTAMP:20190703T140449Z
SUMMARY:Passion Play
DESCRIPTION:Grades 1 and 7
URL;VALUE=URI:https://www.materdeicatholic.com/calendar/2025094/passion-pla
 y
DTSTART;VALUE=DATE:20200407
DTEND;VALUE=DATE:20200408
END:VEVENT
END:VCALENDAR
