BEGIN:VCALENDAR
VERSION:2.0
PRODID:SchoolNow
CALSCALE:GREGORIAN
BEGIN:VEVENT
UID:37a23808-99a7-11e9-83c2-12c27be070b6
DTSTAMP:20190628T131828Z
SUMMARY:Early Dismissal
URL;VALUE=URI:https://www.materdeicatholic.com/calendar/2015773/early-dismi
 ssal
DTSTART:20200612T153000Z
DTEND:20200612T154500Z
END:VEVENT
END:VCALENDAR
