BEGIN:VCALENDAR
VERSION:2.0
PRODID:SchoolNow
CALSCALE:GREGORIAN
BEGIN:VEVENT
UID:140eeed6-99a7-11e9-a1d7-12c27be070b6
DTSTAMP:20190628T131728Z
SUMMARY:Last Day of School Grades 1-7
URL;VALUE=URI:https://www.materdeicatholic.com/calendar/2015772/last-day-of
 -school-grades-1-7
DTSTART;VALUE=DATE:20200612
DTEND;VALUE=DATE:20200613
END:VEVENT
END:VCALENDAR
