BEGIN:VCALENDAR
VERSION:2.0
PRODID:SchoolNow
CALSCALE:GREGORIAN
BEGIN:VEVENT
UID:9403871a-99a6-11e9-90ec-0a2b0ba622ac
DTSTAMP:20190628T131353Z
SUMMARY:Field Day Grades 1-7
URL;VALUE=URI:https://www.materdeicatholic.com/calendar/2015771/field-day-g
 rades-1-7
DTSTART;VALUE=DATE:20200611
DTEND;VALUE=DATE:20200612
END:VEVENT
END:VCALENDAR
