BEGIN:VCALENDAR
VERSION:2.0
PRODID:SchoolNow
CALSCALE:GREGORIAN
BEGIN:VEVENT
UID:512bd564-99a6-11e9-aa7d-0a2b0ba622ac
DTSTAMP:20190628T131553Z
SUMMARY:Early Dismissal
URL;VALUE=URI:https://www.materdeicatholic.com/calendar/2015770/early-dismi
 ssal
DTSTART:20200610T153000Z
DTEND:20200610T154500Z
END:VEVENT
END:VCALENDAR
