BEGIN:VCALENDAR
VERSION:2.0
PRODID:SchoolNow
CALSCALE:GREGORIAN
BEGIN:VEVENT
UID:185c871a-99a6-11e9-a89d-0a2b0ba622ac
DTSTAMP:20190628T131026Z
SUMMARY:No School
URL;VALUE=URI:https://www.materdeicatholic.com/calendar/2015769/no-school
DTSTART;VALUE=DATE:20200608
DTEND;VALUE=DATE:20200609
END:VEVENT
END:VCALENDAR
