BEGIN:VCALENDAR
VERSION:2.0
PRODID:SchoolNow
CALSCALE:GREGORIAN
BEGIN:VEVENT
UID:f6d1e8ce-99a5-11e9-acf1-0a2b0ba622ac
DTSTAMP:20190628T130930Z
SUMMARY:Last Day of School for Kindergarten
URL;VALUE=URI:https://www.materdeicatholic.com/calendar/2015768/last-day-of
 -school-for-kindergarten
DTSTART;VALUE=DATE:20200605
DTEND;VALUE=DATE:20200606
END:VEVENT
END:VCALENDAR
