BEGIN:VCALENDAR
VERSION:2.0
PRODID:SchoolNow
CALSCALE:GREGORIAN
BEGIN:VEVENT
UID:b3cc5d70-99a5-11e9-a4ed-1259eac5b516
DTSTAMP:20190628T130737Z
SUMMARY:No School
URL;VALUE=URI:https://www.materdeicatholic.com/calendar/2015767/no-school
DTSTART;VALUE=DATE:20200525
DTEND;VALUE=DATE:20200526
END:VEVENT
END:VCALENDAR
