BEGIN:VCALENDAR
VERSION:2.0
PRODID:SchoolNow
CALSCALE:GREGORIAN
BEGIN:VEVENT
UID:745ce51a-99a5-11e9-ae9a-1259eac5b516
DTSTAMP:20190628T130551Z
SUMMARY:No School
URL;VALUE=URI:https://www.materdeicatholic.com/calendar/2015765/no-school
DTSTART;VALUE=DATE:20200521
DTEND;VALUE=DATE:20200522
END:VEVENT
END:VCALENDAR
