BEGIN:VCALENDAR
VERSION:2.0
PRODID:SchoolNow
CALSCALE:GREGORIAN
BEGIN:VEVENT
UID:7d3f4aca-99a4-11e9-a570-12c27be070b6
DTSTAMP:20190628T125856Z
SUMMARY:Classes Resume
URL;VALUE=URI:https://www.materdeicatholic.com/calendar/2015764/classes-res
 ume
DTSTART;VALUE=DATE:20200414
DTEND;VALUE=DATE:20200415
END:VEVENT
END:VCALENDAR
