BEGIN:VCALENDAR
VERSION:2.0
PRODID:SchoolNow
CALSCALE:GREGORIAN
BEGIN:VEVENT
UID:6dcf4b8a-99a4-11e9-9a56-12c27be070b6
DTSTAMP:20190628T125959Z
SUMMARY:No School
URL;VALUE=URI:https://www.materdeicatholic.com/calendar/2015763/no-school
DTSTART;VALUE=DATE:20200413
DTEND;VALUE=DATE:20200414
END:VEVENT
END:VCALENDAR
