BEGIN:VCALENDAR
VERSION:2.0
PRODID:SchoolNow
CALSCALE:GREGORIAN
BEGIN:VEVENT
UID:5e7ba822-99a4-11e9-b4b3-12c27be070b6
DTSTAMP:20190628T125805Z
SUMMARY:Easter Sunday
URL;VALUE=URI:https://www.materdeicatholic.com/calendar/2015762/easter-sund
 ay
DTSTART;VALUE=DATE:20200412
DTEND;VALUE=DATE:20200413
END:VEVENT
END:VCALENDAR
