BEGIN:VCALENDAR
VERSION:2.0
PRODID:SchoolNow
CALSCALE:GREGORIAN
BEGIN:VEVENT
UID:0d44a684-99a4-11e9-9945-0ab7689edcb8
DTSTAMP:20190628T125548Z
SUMMARY:No School
URL;VALUE=URI:https://www.materdeicatholic.com/calendar/2015761/no-school
DTSTART;VALUE=DATE:20200410
DTEND;VALUE=DATE:20200411
END:VEVENT
END:VCALENDAR
