BEGIN:VCALENDAR
VERSION:2.0
PRODID:SchoolNow
CALSCALE:GREGORIAN
BEGIN:VEVENT
UID:f130f420-99a3-11e9-806f-0ab7689edcb8
DTSTAMP:20190628T125501Z
SUMMARY:No School
URL;VALUE=URI:https://www.materdeicatholic.com/calendar/2015760/no-school
DTSTART;VALUE=DATE:20200409
DTEND;VALUE=DATE:20200410
END:VEVENT
END:VCALENDAR
